BEGIN:VCALENDAR
VERSION:2.0
PRODID:-//Schule an der Altenau - ECPv6.15.17//NONSGML v1.0//EN
CALSCALE:GREGORIAN
METHOD:PUBLISH
X-WR-CALNAME:Schule an der Altenau
X-ORIGINAL-URL:https://sekundarschule-borchen.de
X-WR-CALDESC:Veranstaltungen für Schule an der Altenau
REFRESH-INTERVAL;VALUE=DURATION:PT1H
X-Robots-Tag:noindex
X-PUBLISHED-TTL:PT1H
BEGIN:VTIMEZONE
TZID:Europe/Berlin
BEGIN:DAYLIGHT
TZOFFSETFROM:+0100
TZOFFSETTO:+0200
TZNAME:CEST
DTSTART:20220327T010000
END:DAYLIGHT
BEGIN:STANDARD
TZOFFSETFROM:+0200
TZOFFSETTO:+0100
TZNAME:CET
DTSTART:20221030T010000
END:STANDARD
BEGIN:DAYLIGHT
TZOFFSETFROM:+0100
TZOFFSETTO:+0200
TZNAME:CEST
DTSTART:20230326T010000
END:DAYLIGHT
BEGIN:STANDARD
TZOFFSETFROM:+0200
TZOFFSETTO:+0100
TZNAME:CET
DTSTART:20231029T010000
END:STANDARD
BEGIN:DAYLIGHT
TZOFFSETFROM:+0100
TZOFFSETTO:+0200
TZNAME:CEST
DTSTART:20240331T010000
END:DAYLIGHT
BEGIN:STANDARD
TZOFFSETFROM:+0200
TZOFFSETTO:+0100
TZNAME:CET
DTSTART:20241027T010000
END:STANDARD
END:VTIMEZONE
BEGIN:VEVENT
DTSTART;TZID=Europe/Berlin:20230906T190000
DTEND;TZID=Europe/Berlin:20230906T200000
DTSTAMP:20260424T192139
CREATED:20230803T091553Z
LAST-MODIFIED:20230810T055408Z
UID:831-1694026800-1694030400@sekundarschule-borchen.de
SUMMARY:Schulkonferenz
DESCRIPTION:Beginn 19 Uhr
URL:https://sekundarschule-borchen.de/event/schulkonferenz/
END:VEVENT
BEGIN:VEVENT
DTSTART;VALUE=DATE:20230907
DTEND;VALUE=DATE:20230908
DTSTAMP:20260424T192139
CREATED:20230829T093032Z
LAST-MODIFIED:20230829T093032Z
UID:889-1694044800-1694131199@sekundarschule-borchen.de
SUMMARY:Check it! - Projekt Jg. 8
DESCRIPTION:
URL:https://sekundarschule-borchen.de/event/check-it-projekt-jg-8/
END:VEVENT
BEGIN:VEVENT
DTSTART;VALUE=DATE:20230913
DTEND;VALUE=DATE:20230914
DTSTAMP:20260424T192139
CREATED:20230829T093059Z
LAST-MODIFIED:20230829T093059Z
UID:891-1694563200-1694649599@sekundarschule-borchen.de
SUMMARY:Check it! - Projekt Jg. 8
DESCRIPTION:
URL:https://sekundarschule-borchen.de/event/check-it-projekt-jg-8-2/
END:VEVENT
BEGIN:VEVENT
DTSTART;VALUE=DATE:20230914
DTEND;VALUE=DATE:20230915
DTSTAMP:20260424T192139
CREATED:20230803T091726Z
LAST-MODIFIED:20230901T075505Z
UID:833-1694649600-1694735999@sekundarschule-borchen.de
SUMMARY:Fototermin
DESCRIPTION:Fototermin mit der Firma Raabe \nKlassenfotos für alle Jahrgänge \nEinzelaufnahmen nur Jahrgang 5\, 7\, 9
URL:https://sekundarschule-borchen.de/event/fototermin/
END:VEVENT
BEGIN:VEVENT
DTSTART;VALUE=DATE:20230919
DTEND;VALUE=DATE:20230920
DTSTAMP:20260424T192139
CREATED:20230829T093122Z
LAST-MODIFIED:20230829T093122Z
UID:893-1695081600-1695167999@sekundarschule-borchen.de
SUMMARY:Check it! - Projekt Jg. 8
DESCRIPTION:
URL:https://sekundarschule-borchen.de/event/check-it-projekt-jg-8-3/
END:VEVENT
BEGIN:VEVENT
DTSTART;TZID=Europe/Berlin:20230920T190000
DTEND;TZID=Europe/Berlin:20230920T200000
DTSTAMP:20260424T192139
CREATED:20230829T093212Z
LAST-MODIFIED:20230829T093332Z
UID:895-1695236400-1695240000@sekundarschule-borchen.de
SUMMARY:Elternabend Jg. 8 - Projekt Check it!
DESCRIPTION:
URL:https://sekundarschule-borchen.de/event/elternabend-jg-8-projekt-check-it/
END:VEVENT
BEGIN:VEVENT
DTSTART;VALUE=DATE:20230922
DTEND;VALUE=DATE:20230923
DTSTAMP:20260424T192139
CREATED:20230829T093358Z
LAST-MODIFIED:20230829T093358Z
UID:898-1695340800-1695427199@sekundarschule-borchen.de
SUMMARY:Connect - Berufseinstiegsmesse - Jg. 9
DESCRIPTION:
URL:https://sekundarschule-borchen.de/event/connect-berufseinstiegsmesse-jg-9/
END:VEVENT
END:VCALENDAR