BEGIN:VCALENDAR
VERSION:2.0
PRODID:-//Schule an der Altenau - ECPv6.15.17//NONSGML v1.0//EN
CALSCALE:GREGORIAN
METHOD:PUBLISH
X-WR-CALNAME:Schule an der Altenau
X-ORIGINAL-URL:https://sekundarschule-borchen.de
X-WR-CALDESC:Veranstaltungen für Schule an der Altenau
REFRESH-INTERVAL;VALUE=DURATION:PT1H
X-Robots-Tag:noindex
X-PUBLISHED-TTL:PT1H
BEGIN:VTIMEZONE
TZID:Europe/Berlin
BEGIN:DAYLIGHT
TZOFFSETFROM:+0100
TZOFFSETTO:+0200
TZNAME:CEST
DTSTART:20220327T010000
END:DAYLIGHT
BEGIN:STANDARD
TZOFFSETFROM:+0200
TZOFFSETTO:+0100
TZNAME:CET
DTSTART:20221030T010000
END:STANDARD
BEGIN:DAYLIGHT
TZOFFSETFROM:+0100
TZOFFSETTO:+0200
TZNAME:CEST
DTSTART:20230326T010000
END:DAYLIGHT
BEGIN:STANDARD
TZOFFSETFROM:+0200
TZOFFSETTO:+0100
TZNAME:CET
DTSTART:20231029T010000
END:STANDARD
BEGIN:DAYLIGHT
TZOFFSETFROM:+0100
TZOFFSETTO:+0200
TZNAME:CEST
DTSTART:20240331T010000
END:DAYLIGHT
BEGIN:STANDARD
TZOFFSETFROM:+0200
TZOFFSETTO:+0100
TZNAME:CET
DTSTART:20241027T010000
END:STANDARD
END:VTIMEZONE
BEGIN:VEVENT
DTSTART;VALUE=DATE:20231002
DTEND;VALUE=DATE:20231014
DTSTAMP:20260424T174708
CREATED:20230803T091819Z
LAST-MODIFIED:20230810T055509Z
UID:835-1696204800-1697241599@sekundarschule-borchen.de
SUMMARY:Herbstferien
DESCRIPTION:
URL:https://sekundarschule-borchen.de/event/herbstferien/
END:VEVENT
BEGIN:VEVENT
DTSTART;VALUE=DATE:20231003
DTEND;VALUE=DATE:20231004
DTSTAMP:20260424T174708
CREATED:20230810T101425Z
LAST-MODIFIED:20230810T101425Z
UID:870-1696291200-1696377599@sekundarschule-borchen.de
SUMMARY:Tag der Dt. Einheit
DESCRIPTION:
URL:https://sekundarschule-borchen.de/event/tag-der-dt-einheit/
END:VEVENT
BEGIN:VEVENT
DTSTART;VALUE=DATE:20231017
DTEND;VALUE=DATE:20231018
DTSTAMP:20260424T174708
CREATED:20230810T055808Z
LAST-MODIFIED:20230810T055808Z
UID:862-1697500800-1697587199@sekundarschule-borchen.de
SUMMARY:Grundschulschnuppermorgen
DESCRIPTION:
URL:https://sekundarschule-borchen.de/event/grundschulschnuppermorgen/
END:VEVENT
BEGIN:VEVENT
DTSTART;VALUE=DATE:20231020
DTEND;VALUE=DATE:20231021
DTSTAMP:20260424T174708
CREATED:20230822T112014Z
LAST-MODIFIED:20231016T080252Z
UID:874-1697760000-1697846399@sekundarschule-borchen.de
SUMMARY:Eltern-Schüler-Beratungstag
DESCRIPTION:Elternsprechtag_Raumplan_10_23 \n  \nÄnderungen vorbehalten! \n 
URL:https://sekundarschule-borchen.de/event/eltern-schueler-beratungstag/
END:VEVENT
BEGIN:VEVENT
DTSTART;VALUE=DATE:20231023
DTEND;VALUE=DATE:20231026
DTSTAMP:20260424T174708
CREATED:20230825T094953Z
LAST-MODIFIED:20230825T094953Z
UID:881-1698019200-1698278399@sekundarschule-borchen.de
SUMMARY:Potentialanalyse Jahrgangsstufe 8
DESCRIPTION:
URL:https://sekundarschule-borchen.de/event/potentialanalyse-jahrgangsstufe-8/
END:VEVENT
BEGIN:VEVENT
DTSTART;VALUE=DATE:20231023
DTEND;VALUE=DATE:20231104
DTSTAMP:20260424T174708
CREATED:20230803T092002Z
LAST-MODIFIED:20230808T052041Z
UID:839-1698019200-1699055999@sekundarschule-borchen.de
SUMMARY:Praktikum Jahrgang 10
DESCRIPTION:
URL:https://sekundarschule-borchen.de/event/praktikum-jahrgang-10/
END:VEVENT
BEGIN:VEVENT
DTSTART;VALUE=DATE:20231023
DTEND;VALUE=DATE:20231111
DTSTAMP:20260424T174708
CREATED:20230803T091928Z
LAST-MODIFIED:20230808T052052Z
UID:837-1698019200-1699660799@sekundarschule-borchen.de
SUMMARY:Praktikum Jahrgang 9
DESCRIPTION:
URL:https://sekundarschule-borchen.de/event/praktikum-jahrgang-9/
END:VEVENT
BEGIN:VEVENT
DTSTART;VALUE=DATE:20231026
DTEND;VALUE=DATE:20231027
DTSTAMP:20260424T174708
CREATED:20230905T083354Z
LAST-MODIFIED:20230905T083354Z
UID:901-1698278400-1698364799@sekundarschule-borchen.de
SUMMARY:Pädagogischer Tag
DESCRIPTION:
URL:https://sekundarschule-borchen.de/event/paedagogischer-tag/
END:VEVENT
END:VCALENDAR