BEGIN:VCALENDAR
VERSION:2.0
PRODID:-//Schule an der Altenau - ECPv6.15.17//NONSGML v1.0//EN
CALSCALE:GREGORIAN
METHOD:PUBLISH
X-ORIGINAL-URL:https://sekundarschule-borchen.de
X-WR-CALDESC:Veranstaltungen für Schule an der Altenau
REFRESH-INTERVAL;VALUE=DURATION:PT1H
X-Robots-Tag:noindex
X-PUBLISHED-TTL:PT1H
BEGIN:VTIMEZONE
TZID:Europe/Berlin
BEGIN:DAYLIGHT
TZOFFSETFROM:+0100
TZOFFSETTO:+0200
TZNAME:CEST
DTSTART:20230326T010000
END:DAYLIGHT
BEGIN:STANDARD
TZOFFSETFROM:+0200
TZOFFSETTO:+0100
TZNAME:CET
DTSTART:20231029T010000
END:STANDARD
BEGIN:DAYLIGHT
TZOFFSETFROM:+0100
TZOFFSETTO:+0200
TZNAME:CEST
DTSTART:20240331T010000
END:DAYLIGHT
BEGIN:STANDARD
TZOFFSETFROM:+0200
TZOFFSETTO:+0100
TZNAME:CET
DTSTART:20241027T010000
END:STANDARD
BEGIN:DAYLIGHT
TZOFFSETFROM:+0100
TZOFFSETTO:+0200
TZNAME:CEST
DTSTART:20250330T010000
END:DAYLIGHT
BEGIN:STANDARD
TZOFFSETFROM:+0200
TZOFFSETTO:+0100
TZNAME:CET
DTSTART:20251026T010000
END:STANDARD
END:VTIMEZONE
BEGIN:VEVENT
DTSTART;VALUE=DATE:20240501
DTEND;VALUE=DATE:20240502
DTSTAMP:20260422T152219
CREATED:20230920T113652Z
LAST-MODIFIED:20230920T113652Z
UID:933-1714521600-1714607999@sekundarschule-borchen.de
SUMMARY:Maifeiertag
DESCRIPTION:
URL:https://sekundarschule-borchen.de/event/maifeiertag/
END:VEVENT
BEGIN:VEVENT
DTSTART;VALUE=DATE:20240509
DTEND;VALUE=DATE:20240510
DTSTAMP:20260422T152219
CREATED:20230920T113728Z
LAST-MODIFIED:20230920T113728Z
UID:935-1715212800-1715299199@sekundarschule-borchen.de
SUMMARY:Christi Himmelfahrt
DESCRIPTION:
URL:https://sekundarschule-borchen.de/event/christi-himmelfahrt/
END:VEVENT
BEGIN:VEVENT
DTSTART;VALUE=DATE:20240510
DTEND;VALUE=DATE:20240511
DTSTAMP:20260422T152219
CREATED:20230920T113747Z
LAST-MODIFIED:20230920T113747Z
UID:937-1715299200-1715385599@sekundarschule-borchen.de
SUMMARY:Beweglicher Ferientag
DESCRIPTION:
URL:https://sekundarschule-borchen.de/event/beweglicher-ferientag-2/
END:VEVENT
BEGIN:VEVENT
DTSTART;VALUE=DATE:20240514
DTEND;VALUE=DATE:20240515
DTSTAMP:20260422T152219
CREATED:20230920T113815Z
LAST-MODIFIED:20230920T113815Z
UID:939-1715644800-1715731199@sekundarschule-borchen.de
SUMMARY:Zentrale Prüfung 10 - Deutsch
DESCRIPTION:
URL:https://sekundarschule-borchen.de/event/zentrale-pruefung-10-deutsch/
END:VEVENT
BEGIN:VEVENT
DTSTART;VALUE=DATE:20240516
DTEND;VALUE=DATE:20240517
DTSTAMP:20260422T152219
CREATED:20230920T113848Z
LAST-MODIFIED:20230920T113958Z
UID:941-1715817600-1715903999@sekundarschule-borchen.de
SUMMARY:Zentrale Prüfung 10 - Englisch
DESCRIPTION:
URL:https://sekundarschule-borchen.de/event/zentrale-pruefung-10-englisch/
END:VEVENT
BEGIN:VEVENT
DTSTART;VALUE=DATE:20240520
DTEND;VALUE=DATE:20240521
DTSTAMP:20260422T152219
CREATED:20230920T114034Z
LAST-MODIFIED:20230920T114034Z
UID:943-1716163200-1716249599@sekundarschule-borchen.de
SUMMARY:Pfingsten
DESCRIPTION:
URL:https://sekundarschule-borchen.de/event/pfingsten/
END:VEVENT
BEGIN:VEVENT
DTSTART;VALUE=DATE:20240521
DTEND;VALUE=DATE:20240522
DTSTAMP:20260422T152219
CREATED:20230920T114112Z
LAST-MODIFIED:20230920T114112Z
UID:945-1716249600-1716335999@sekundarschule-borchen.de
SUMMARY:Pfingstferien
DESCRIPTION:
URL:https://sekundarschule-borchen.de/event/pfingstferien/
END:VEVENT
BEGIN:VEVENT
DTSTART;VALUE=DATE:20240524
DTEND;VALUE=DATE:20240525
DTSTAMP:20260422T152219
CREATED:20230920T114145Z
LAST-MODIFIED:20230920T115118Z
UID:947-1716508800-1716595199@sekundarschule-borchen.de
SUMMARY:Zentrale Prüfung 10 - Mathematik
DESCRIPTION:
URL:https://sekundarschule-borchen.de/event/zentrale-pruefung-10-mathematik/
END:VEVENT
BEGIN:VEVENT
DTSTART;VALUE=DATE:20240529
DTEND;VALUE=DATE:20240530
DTSTAMP:20260422T152219
CREATED:20230920T115153Z
LAST-MODIFIED:20230920T115153Z
UID:955-1716940800-1717027199@sekundarschule-borchen.de
SUMMARY:Zentrale Prüfung 10 - Deutsch Nachschreibtermin
DESCRIPTION:
URL:https://sekundarschule-borchen.de/event/zentrale-pruefung-10-deutsch-nachschreibtermin/
END:VEVENT
BEGIN:VEVENT
DTSTART;VALUE=DATE:20240530
DTEND;VALUE=DATE:20240531
DTSTAMP:20260422T152219
CREATED:20230920T115400Z
LAST-MODIFIED:20230920T115400Z
UID:957-1717027200-1717113599@sekundarschule-borchen.de
SUMMARY:Fronleichnam
DESCRIPTION:
URL:https://sekundarschule-borchen.de/event/fronleichnam/
END:VEVENT
BEGIN:VEVENT
DTSTART;VALUE=DATE:20240531
DTEND;VALUE=DATE:20240601
DTSTAMP:20260422T152219
CREATED:20230920T115438Z
LAST-MODIFIED:20230920T115438Z
UID:959-1717113600-1717199999@sekundarschule-borchen.de
SUMMARY:Beweglicher Ferientag
DESCRIPTION:
URL:https://sekundarschule-borchen.de/event/beweglicher-ferientag-3/
END:VEVENT
END:VCALENDAR