BEGIN:VCALENDAR
VERSION:2.0
PRODID:-//Schule an der Altenau - ECPv6.15.17//NONSGML v1.0//EN
CALSCALE:GREGORIAN
METHOD:PUBLISH
X-WR-CALNAME:Schule an der Altenau
X-ORIGINAL-URL:https://sekundarschule-borchen.de
X-WR-CALDESC:Veranstaltungen für Schule an der Altenau
REFRESH-INTERVAL;VALUE=DURATION:PT1H
X-Robots-Tag:noindex
X-PUBLISHED-TTL:PT1H
BEGIN:VTIMEZONE
TZID:Europe/Berlin
BEGIN:DAYLIGHT
TZOFFSETFROM:+0100
TZOFFSETTO:+0200
TZNAME:CEST
DTSTART:20230326T010000
END:DAYLIGHT
BEGIN:STANDARD
TZOFFSETFROM:+0200
TZOFFSETTO:+0100
TZNAME:CET
DTSTART:20231029T010000
END:STANDARD
BEGIN:DAYLIGHT
TZOFFSETFROM:+0100
TZOFFSETTO:+0200
TZNAME:CEST
DTSTART:20240331T010000
END:DAYLIGHT
BEGIN:STANDARD
TZOFFSETFROM:+0200
TZOFFSETTO:+0100
TZNAME:CET
DTSTART:20241027T010000
END:STANDARD
BEGIN:DAYLIGHT
TZOFFSETFROM:+0100
TZOFFSETTO:+0200
TZNAME:CEST
DTSTART:20250330T010000
END:DAYLIGHT
BEGIN:STANDARD
TZOFFSETFROM:+0200
TZOFFSETTO:+0100
TZNAME:CET
DTSTART:20251026T010000
END:STANDARD
END:VTIMEZONE
BEGIN:VEVENT
DTSTART;TZID=Europe/Berlin:20240904T190000
DTEND;TZID=Europe/Berlin:20240904T203000
DTSTAMP:20260420T073912
CREATED:20240819T075233Z
LAST-MODIFIED:20240819T075233Z
UID:1407-1725476400-1725481800@sekundarschule-borchen.de
SUMMARY:Pflegschaft 5-7
DESCRIPTION:
URL:https://sekundarschule-borchen.de/event/pflegschaft-5-7/
END:VEVENT
BEGIN:VEVENT
DTSTART;TZID=Europe/Berlin:20240905T100000
DTEND;TZID=Europe/Berlin:20240905T120000
DTSTAMP:20260420T073912
CREATED:20240819T075358Z
LAST-MODIFIED:20240819T075358Z
UID:1411-1725530400-1725537600@sekundarschule-borchen.de
SUMMARY:Check-it Projekt 8er
DESCRIPTION:
URL:https://sekundarschule-borchen.de/event/check-it-projekt-8er/
END:VEVENT
BEGIN:VEVENT
DTSTART;TZID=Europe/Berlin:20240905T180000
DTEND;TZID=Europe/Berlin:20240905T190000
DTSTAMP:20260420T073912
CREATED:20240827T103217Z
LAST-MODIFIED:20240827T103217Z
UID:1496-1725559200-1725562800@sekundarschule-borchen.de
SUMMARY:KAoA Veranstaltung zur Berufsvorbereitung im Jahrgang 8
DESCRIPTION:
URL:https://sekundarschule-borchen.de/event/kaoa-veranstaltung-zur-berufsvorbereitung-im-jahrgang-8/
END:VEVENT
BEGIN:VEVENT
DTSTART;TZID=Europe/Berlin:20240905T190000
DTEND;TZID=Europe/Berlin:20240905T203000
DTSTAMP:20260420T073912
CREATED:20240819T075312Z
LAST-MODIFIED:20240819T075312Z
UID:1409-1725562800-1725568200@sekundarschule-borchen.de
SUMMARY:Pflegschaft 8-10
DESCRIPTION:
URL:https://sekundarschule-borchen.de/event/pflegschaft-8-10/
END:VEVENT
BEGIN:VEVENT
DTSTART;VALUE=DATE:20240909
DTEND;VALUE=DATE:20240914
DTSTAMP:20260420T073912
CREATED:20240819T075441Z
LAST-MODIFIED:20240819T075441Z
UID:1413-1725840000-1726271999@sekundarschule-borchen.de
SUMMARY:Diagnosewoche Jahrgang 5
DESCRIPTION:
URL:https://sekundarschule-borchen.de/event/diagnosewoche-jahrgang-5/
END:VEVENT
BEGIN:VEVENT
DTSTART;VALUE=DATE:20240911
DTEND;VALUE=DATE:20240912
DTSTAMP:20260420T073912
CREATED:20240819T075719Z
LAST-MODIFIED:20240819T075719Z
UID:1415-1726012800-1726099199@sekundarschule-borchen.de
SUMMARY:Fotoaktion Foto Raabe
DESCRIPTION:
URL:https://sekundarschule-borchen.de/event/fotoaktion-foto-raabe/
END:VEVENT
BEGIN:VEVENT
DTSTART;TZID=Europe/Berlin:20240911T080000
DTEND;TZID=Europe/Berlin:20240911T170000
DTSTAMP:20260420T073912
CREATED:20240819T075817Z
LAST-MODIFIED:20240819T075817Z
UID:1417-1726041600-1726074000@sekundarschule-borchen.de
SUMMARY:Schulpflegschaft - Zeitraum noch offen
DESCRIPTION:
URL:https://sekundarschule-borchen.de/event/schulpflegschaft-zeitraum-noch-offen/
END:VEVENT
BEGIN:VEVENT
DTSTART;TZID=Europe/Berlin:20240911T100000
DTEND;TZID=Europe/Berlin:20240911T120000
DTSTAMP:20260420T073912
CREATED:20240819T075853Z
LAST-MODIFIED:20240819T075853Z
UID:1419-1726048800-1726056000@sekundarschule-borchen.de
SUMMARY:Check-it 8er
DESCRIPTION:
URL:https://sekundarschule-borchen.de/event/check-it-8er/
END:VEVENT
BEGIN:VEVENT
DTSTART;TZID=Europe/Berlin:20240912T080000
DTEND;TZID=Europe/Berlin:20240912T170000
DTSTAMP:20260420T073912
CREATED:20240819T075948Z
LAST-MODIFIED:20240819T075948Z
UID:1421-1726128000-1726160400@sekundarschule-borchen.de
SUMMARY:Mint-Projekt Jahrgang 9 + 8er WP Nawi
DESCRIPTION:
URL:https://sekundarschule-borchen.de/event/mint-projekt-jahrgang-9-8er-wp-nawi/
END:VEVENT
BEGIN:VEVENT
DTSTART;TZID=Europe/Berlin:20240917T100000
DTEND;TZID=Europe/Berlin:20240917T120000
DTSTAMP:20260420T073912
CREATED:20240819T080019Z
LAST-MODIFIED:20240819T080019Z
UID:1423-1726567200-1726574400@sekundarschule-borchen.de
SUMMARY:Check-it 8er
DESCRIPTION:
URL:https://sekundarschule-borchen.de/event/check-it-8er-2/
END:VEVENT
BEGIN:VEVENT
DTSTART;TZID=Europe/Berlin:20240918T190000
DTEND;TZID=Europe/Berlin:20240918T203000
DTSTAMP:20260420T073912
CREATED:20240819T080049Z
LAST-MODIFIED:20240819T080049Z
UID:1425-1726686000-1726691400@sekundarschule-borchen.de
SUMMARY:Schulkonferenz
DESCRIPTION:
URL:https://sekundarschule-borchen.de/event/schulkonferenz-2/
END:VEVENT
BEGIN:VEVENT
DTSTART;VALUE=DATE:20240921
DTEND;VALUE=DATE:20240923
DTSTAMP:20260420T073912
CREATED:20240819T080127Z
LAST-MODIFIED:20240819T080127Z
UID:1427-1726876800-1727049599@sekundarschule-borchen.de
SUMMARY:1000 Jahre Kirchborchen
DESCRIPTION:
URL:https://sekundarschule-borchen.de/event/1000-jahre-kirchborchen/
END:VEVENT
BEGIN:VEVENT
DTSTART;VALUE=DATE:20240923
DTEND;VALUE=DATE:20240924
DTSTAMP:20260420T073912
CREATED:20240819T080214Z
LAST-MODIFIED:20240819T080214Z
UID:1429-1727049600-1727135999@sekundarschule-borchen.de
SUMMARY:Schulsanis besuchen die Polizei in Paderborn
DESCRIPTION:
URL:https://sekundarschule-borchen.de/event/schulsanis-besuchen-die-polizei-in-paderborn/
END:VEVENT
BEGIN:VEVENT
DTSTART;VALUE=DATE:20240926
DTEND;VALUE=DATE:20240928
DTSTAMP:20260420T073912
CREATED:20240819T080248Z
LAST-MODIFIED:20240819T080248Z
UID:1431-1727308800-1727481599@sekundarschule-borchen.de
SUMMARY:Waldjugendspiele Kreis Paderborn
DESCRIPTION:
URL:https://sekundarschule-borchen.de/event/waldjugendspiele-kreis-paderborn/
END:VEVENT
BEGIN:VEVENT
DTSTART;VALUE=DATE:20240927
DTEND;VALUE=DATE:20240928
DTSTAMP:20260420T073912
CREATED:20240819T080316Z
LAST-MODIFIED:20240819T080316Z
UID:1433-1727395200-1727481599@sekundarschule-borchen.de
SUMMARY:Ausbildungsmesse Connect 9er
DESCRIPTION:
URL:https://sekundarschule-borchen.de/event/ausbildungsmesse-connect-9er/
END:VEVENT
END:VCALENDAR