BEGIN:VCALENDAR
VERSION:2.0
PRODID:-//Schule an der Altenau - ECPv6.15.17//NONSGML v1.0//EN
CALSCALE:GREGORIAN
METHOD:PUBLISH
X-ORIGINAL-URL:https://sekundarschule-borchen.de
X-WR-CALDESC:Veranstaltungen für Schule an der Altenau
REFRESH-INTERVAL;VALUE=DURATION:PT1H
X-Robots-Tag:noindex
X-PUBLISHED-TTL:PT1H
BEGIN:VTIMEZONE
TZID:Europe/Berlin
BEGIN:DAYLIGHT
TZOFFSETFROM:+0100
TZOFFSETTO:+0200
TZNAME:CEST
DTSTART:20240331T010000
END:DAYLIGHT
BEGIN:STANDARD
TZOFFSETFROM:+0200
TZOFFSETTO:+0100
TZNAME:CET
DTSTART:20241027T010000
END:STANDARD
BEGIN:DAYLIGHT
TZOFFSETFROM:+0100
TZOFFSETTO:+0200
TZNAME:CEST
DTSTART:20250330T010000
END:DAYLIGHT
BEGIN:STANDARD
TZOFFSETFROM:+0200
TZOFFSETTO:+0100
TZNAME:CET
DTSTART:20251026T010000
END:STANDARD
BEGIN:DAYLIGHT
TZOFFSETFROM:+0100
TZOFFSETTO:+0200
TZNAME:CEST
DTSTART:20260329T010000
END:DAYLIGHT
BEGIN:STANDARD
TZOFFSETFROM:+0200
TZOFFSETTO:+0100
TZNAME:CET
DTSTART:20261025T010000
END:STANDARD
END:VTIMEZONE
BEGIN:VEVENT
DTSTART;TZID=Europe/Berlin:20250207T075500
DTEND;TZID=Europe/Berlin:20250207T105500
DTSTAMP:20260419T231120
CREATED:20240819T081334Z
LAST-MODIFIED:20250203T071749Z
UID:1457-1738914900-1738925700@sekundarschule-borchen.de
SUMMARY:Halbjahreszeugnisse
DESCRIPTION:
URL:https://sekundarschule-borchen.de/event/halbjahreszeugnisse-2/
END:VEVENT
BEGIN:VEVENT
DTSTART;VALUE=DATE:20250211
DTEND;VALUE=DATE:20250212
DTSTAMP:20260419T231120
CREATED:20250203T114436Z
LAST-MODIFIED:20250203T114436Z
UID:1774-1739232000-1739318399@sekundarschule-borchen.de
SUMMARY:Pädagogischer Tag
DESCRIPTION:
URL:https://sekundarschule-borchen.de/event/paedagogischer-tag-3/
END:VEVENT
BEGIN:VEVENT
DTSTART;TZID=Europe/Berlin:20250227T074500
DTEND;TZID=Europe/Berlin:20250227T131500
DTSTAMP:20260419T231120
CREATED:20250224T064810Z
LAST-MODIFIED:20250224T064810Z
UID:1833-1740642300-1740662100@sekundarschule-borchen.de
SUMMARY:Klassenjahrgänge 5 und 6 haben am Donnerstag\, dem 27.02.2025\, früher Schulschluss!
DESCRIPTION:Für die Klassenjahrgänge 5 und 6 ist am Donnerstag\, dem 27.02.2025\, Unterrichtsende um 13:15 Uhr!
URL:https://sekundarschule-borchen.de/event/klassenjahrgaenge-5-und-6-haben-am-donnerstag-dem-27-02-2025-frueher-schulschluss/
END:VEVENT
END:VCALENDAR