BEGIN:VCALENDAR
VERSION:2.0
PRODID:-//Schule an der Altenau - ECPv6.15.17//NONSGML v1.0//EN
CALSCALE:GREGORIAN
METHOD:PUBLISH
X-WR-CALNAME:Schule an der Altenau
X-ORIGINAL-URL:https://sekundarschule-borchen.de
X-WR-CALDESC:Veranstaltungen für Schule an der Altenau
REFRESH-INTERVAL;VALUE=DURATION:PT1H
X-Robots-Tag:noindex
X-PUBLISHED-TTL:PT1H
BEGIN:VTIMEZONE
TZID:Europe/Berlin
BEGIN:DAYLIGHT
TZOFFSETFROM:+0100
TZOFFSETTO:+0200
TZNAME:CEST
DTSTART:20240331T010000
END:DAYLIGHT
BEGIN:STANDARD
TZOFFSETFROM:+0200
TZOFFSETTO:+0100
TZNAME:CET
DTSTART:20241027T010000
END:STANDARD
BEGIN:DAYLIGHT
TZOFFSETFROM:+0100
TZOFFSETTO:+0200
TZNAME:CEST
DTSTART:20250330T010000
END:DAYLIGHT
BEGIN:STANDARD
TZOFFSETFROM:+0200
TZOFFSETTO:+0100
TZNAME:CET
DTSTART:20251026T010000
END:STANDARD
BEGIN:DAYLIGHT
TZOFFSETFROM:+0100
TZOFFSETTO:+0200
TZNAME:CEST
DTSTART:20260329T010000
END:DAYLIGHT
BEGIN:STANDARD
TZOFFSETFROM:+0200
TZOFFSETTO:+0100
TZNAME:CET
DTSTART:20261025T010000
END:STANDARD
END:VTIMEZONE
BEGIN:VEVENT
DTSTART;VALUE=DATE:20250303
DTEND;VALUE=DATE:20250304
DTSTAMP:20260419T213627
CREATED:20240819T081443Z
LAST-MODIFIED:20240819T081443Z
UID:1459-1740960000-1741046399@sekundarschule-borchen.de
SUMMARY:Beweglicher Ferientag
DESCRIPTION:
URL:https://sekundarschule-borchen.de/event/beweglicher-ferientag-4/
END:VEVENT
BEGIN:VEVENT
DTSTART;VALUE=DATE:20250304
DTEND;VALUE=DATE:20250305
DTSTAMP:20260419T213627
CREATED:20240819T081521Z
LAST-MODIFIED:20240819T081521Z
UID:1461-1741046400-1741132799@sekundarschule-borchen.de
SUMMARY:Beweglicher Ferientag
DESCRIPTION:
URL:https://sekundarschule-borchen.de/event/beweglicher-ferientag-5/
END:VEVENT
BEGIN:VEVENT
DTSTART;TZID=Europe/Berlin:20250305T074500
DTEND;TZID=Europe/Berlin:20250311T131500
DTSTAMP:20260419T213627
CREATED:20241105T101455Z
LAST-MODIFIED:20250311T073602Z
UID:1533-1741160700-1741698900@sekundarschule-borchen.de
SUMMARY:Anmeldezeitraum
DESCRIPTION:
URL:https://sekundarschule-borchen.de/event/anmeldezeitraum/
END:VEVENT
BEGIN:VEVENT
DTSTART;TZID=Europe/Berlin:20250305T095500
DTEND;TZID=Europe/Berlin:20250305T120000
DTSTAMP:20260419T213627
CREATED:20250214T121630Z
LAST-MODIFIED:20250214T121630Z
UID:1818-1741168500-1741176000@sekundarschule-borchen.de
SUMMARY:Zentrale Lernstandserhebungen der Klasse 8\, Fach Englisch
DESCRIPTION:In der Klasse 8 gibt es Zentrale Lernstandserhebungen in dem Fach Englisch.\nDiese Arbeit wird nicht als Klassenarbeiten gewertet und nicht benotet.
URL:https://sekundarschule-borchen.de/event/zentrale-lernstandserhebungen-der-klasse-8-fach-englisch/
LOCATION:Sekundarschule Borchen
END:VEVENT
BEGIN:VEVENT
DTSTART;TZID=Europe/Berlin:20250307T095500
DTEND;TZID=Europe/Berlin:20250307T120000
DTSTAMP:20260419T213627
CREATED:20250214T122106Z
LAST-MODIFIED:20250214T122106Z
UID:1820-1741341300-1741348800@sekundarschule-borchen.de
SUMMARY:Zentrale Lernstandserhebungen der Klasse 8\, Fach Mathematik
DESCRIPTION:In der Klasse 8 gibt es Zentrale Lernstandserhebungen in dem Fach Mathematik.\nDiese Arbeit wird nicht als Klassenarbeiten gewertet und nicht benotet.
URL:https://sekundarschule-borchen.de/event/zentrale-lernstandserhebungen-der-klasse-8-fach-mathematik/
LOCATION:Sekundarschule Borchen
END:VEVENT
BEGIN:VEVENT
DTSTART;TZID=Europe/Berlin:20250310T095500
DTEND;TZID=Europe/Berlin:20250310T120000
DTSTAMP:20260419T213627
CREATED:20250214T122325Z
LAST-MODIFIED:20250214T122325Z
UID:1822-1741600500-1741608000@sekundarschule-borchen.de
SUMMARY:Zentrale Lernstandserhebungen der Klasse 8\, Fach Deutsch
DESCRIPTION:In der Klasse 8 gibt es Zentrale Lernstandserhebungen in dem Fach Deutsch.\nDiese Arbeit wird nicht als Klassenarbeiten gewertet und nicht benotet.
URL:https://sekundarschule-borchen.de/event/zentrale-lernstandserhebungen-der-klasse-8-fach-deutsch/
LOCATION:Sekundarschule Borchen
END:VEVENT
END:VCALENDAR