BEGIN:VCALENDAR
VERSION:2.0
PRODID:-//Schule an der Altenau - ECPv6.15.17//NONSGML v1.0//EN
CALSCALE:GREGORIAN
METHOD:PUBLISH
X-ORIGINAL-URL:https://sekundarschule-borchen.de
X-WR-CALDESC:Veranstaltungen für Schule an der Altenau
REFRESH-INTERVAL;VALUE=DURATION:PT1H
X-Robots-Tag:noindex
X-PUBLISHED-TTL:PT1H
BEGIN:VTIMEZONE
TZID:Europe/Berlin
BEGIN:DAYLIGHT
TZOFFSETFROM:+0100
TZOFFSETTO:+0200
TZNAME:CEST
DTSTART:20240331T010000
END:DAYLIGHT
BEGIN:STANDARD
TZOFFSETFROM:+0200
TZOFFSETTO:+0100
TZNAME:CET
DTSTART:20241027T010000
END:STANDARD
BEGIN:DAYLIGHT
TZOFFSETFROM:+0100
TZOFFSETTO:+0200
TZNAME:CEST
DTSTART:20250330T010000
END:DAYLIGHT
BEGIN:STANDARD
TZOFFSETFROM:+0200
TZOFFSETTO:+0100
TZNAME:CET
DTSTART:20251026T010000
END:STANDARD
BEGIN:DAYLIGHT
TZOFFSETFROM:+0100
TZOFFSETTO:+0200
TZNAME:CEST
DTSTART:20260329T010000
END:DAYLIGHT
BEGIN:STANDARD
TZOFFSETFROM:+0200
TZOFFSETTO:+0100
TZNAME:CET
DTSTART:20261025T010000
END:STANDARD
END:VTIMEZONE
BEGIN:VEVENT
DTSTART;VALUE=DATE:20250502
DTEND;VALUE=DATE:20250503
DTSTAMP:20260419T181149
CREATED:20240819T081555Z
LAST-MODIFIED:20240819T081555Z
UID:1463-1746144000-1746230399@sekundarschule-borchen.de
SUMMARY:Schüler-Eltern Beratungstag
DESCRIPTION:
URL:https://sekundarschule-borchen.de/event/schueler-eltern-beratungstag-2/
END:VEVENT
BEGIN:VEVENT
DTSTART;VALUE=DATE:20250505
DTEND;VALUE=DATE:20250508
DTSTAMP:20260419T181149
CREATED:20240819T081626Z
LAST-MODIFIED:20240819T081626Z
UID:1465-1746403200-1746662399@sekundarschule-borchen.de
SUMMARY:Klassenfahrten 5er
DESCRIPTION:
URL:https://sekundarschule-borchen.de/event/klassenfahrten-5er/
END:VEVENT
BEGIN:VEVENT
DTSTART;VALUE=DATE:20250505
DTEND;VALUE=DATE:20250510
DTSTAMP:20260419T181149
CREATED:20250310T063300Z
LAST-MODIFIED:20250310T063300Z
UID:1848-1746403200-1746835199@sekundarschule-borchen.de
SUMMARY:Klassenfahrten 8er
DESCRIPTION:
URL:https://sekundarschule-borchen.de/event/klassenfahrten-8er/
END:VEVENT
BEGIN:VEVENT
DTSTART;VALUE=DATE:20250527
DTEND;VALUE=DATE:20250528
DTSTAMP:20260419T181149
CREATED:20240819T081658Z
LAST-MODIFIED:20240819T081658Z
UID:1467-1748304000-1748390399@sekundarschule-borchen.de
SUMMARY:ZP 10 Deutsch
DESCRIPTION:
URL:https://sekundarschule-borchen.de/event/zp-10-deutsch/
END:VEVENT
BEGIN:VEVENT
DTSTART;VALUE=DATE:20250530
DTEND;VALUE=DATE:20250531
DTSTAMP:20260419T181149
CREATED:20240819T081724Z
LAST-MODIFIED:20240819T081724Z
UID:1469-1748563200-1748649599@sekundarschule-borchen.de
SUMMARY:Beweglicher Ferientag
DESCRIPTION:
URL:https://sekundarschule-borchen.de/event/beweglicher-ferientag-6/
END:VEVENT
END:VCALENDAR