BEGIN:VCALENDAR
VERSION:2.0
PRODID:-//Schule an der Altenau - ECPv6.15.17//NONSGML v1.0//EN
CALSCALE:GREGORIAN
METHOD:PUBLISH
X-WR-CALNAME:Schule an der Altenau
X-ORIGINAL-URL:https://sekundarschule-borchen.de
X-WR-CALDESC:Veranstaltungen für Schule an der Altenau
REFRESH-INTERVAL;VALUE=DURATION:PT1H
X-Robots-Tag:noindex
X-PUBLISHED-TTL:PT1H
BEGIN:VTIMEZONE
TZID:Europe/Berlin
BEGIN:DAYLIGHT
TZOFFSETFROM:+0100
TZOFFSETTO:+0200
TZNAME:CEST
DTSTART:20240331T010000
END:DAYLIGHT
BEGIN:STANDARD
TZOFFSETFROM:+0200
TZOFFSETTO:+0100
TZNAME:CET
DTSTART:20241027T010000
END:STANDARD
BEGIN:DAYLIGHT
TZOFFSETFROM:+0100
TZOFFSETTO:+0200
TZNAME:CEST
DTSTART:20250330T010000
END:DAYLIGHT
BEGIN:STANDARD
TZOFFSETFROM:+0200
TZOFFSETTO:+0100
TZNAME:CET
DTSTART:20251026T010000
END:STANDARD
BEGIN:DAYLIGHT
TZOFFSETFROM:+0100
TZOFFSETTO:+0200
TZNAME:CEST
DTSTART:20260329T010000
END:DAYLIGHT
BEGIN:STANDARD
TZOFFSETFROM:+0200
TZOFFSETTO:+0100
TZNAME:CET
DTSTART:20261025T010000
END:STANDARD
END:VTIMEZONE
BEGIN:VEVENT
DTSTART;VALUE=DATE:20250630
DTEND;VALUE=DATE:20250703
DTSTAMP:20260423T103703
CREATED:20240819T082043Z
LAST-MODIFIED:20240819T082043Z
UID:1481-1751241600-1751500799@sekundarschule-borchen.de
SUMMARY:AIDS Beratung 9er
DESCRIPTION:
URL:https://sekundarschule-borchen.de/event/aids-beratung-9er/
END:VEVENT
BEGIN:VEVENT
DTSTART;VALUE=DATE:20250704
DTEND;VALUE=DATE:20250705
DTSTAMP:20260423T103703
CREATED:20240819T082110Z
LAST-MODIFIED:20240819T082110Z
UID:1483-1751587200-1751673599@sekundarschule-borchen.de
SUMMARY:Abschlussfeier Jahrgang 10
DESCRIPTION:
URL:https://sekundarschule-borchen.de/event/abschlussfeier-jahrgang-10/
END:VEVENT
BEGIN:VEVENT
DTSTART;VALUE=DATE:20250707
DTEND;VALUE=DATE:20250708
DTSTAMP:20260423T103703
CREATED:20240819T082140Z
LAST-MODIFIED:20240819T082140Z
UID:1485-1751846400-1751932799@sekundarschule-borchen.de
SUMMARY:Cannabisparcours 7er
DESCRIPTION:
URL:https://sekundarschule-borchen.de/event/cannabisparcours-7er/
END:VEVENT
BEGIN:VEVENT
DTSTART;VALUE=DATE:20250708
DTEND;VALUE=DATE:20250709
DTSTAMP:20260423T103703
CREATED:20240819T082203Z
LAST-MODIFIED:20240819T082203Z
UID:1487-1751932800-1752019199@sekundarschule-borchen.de
SUMMARY:Partydrogen 8er
DESCRIPTION:
URL:https://sekundarschule-borchen.de/event/partydrogen-8er/
END:VEVENT
BEGIN:VEVENT
DTSTART;TZID=Europe/Berlin:20250709T074500
DTEND;TZID=Europe/Berlin:20250709T131500
DTSTAMP:20260423T103703
CREATED:20250617T090601Z
LAST-MODIFIED:20250701T113305Z
UID:1984-1752047100-1752066900@sekundarschule-borchen.de
SUMMARY:Sportfest 5-9 Klassen
DESCRIPTION:
URL:https://sekundarschule-borchen.de/event/sportfest-5-9-klassen/
END:VEVENT
BEGIN:VEVENT
DTSTART;TZID=Europe/Berlin:20250710T074500
DTEND;TZID=Europe/Berlin:20250710T131500
DTSTAMP:20260423T103703
CREATED:20250617T092756Z
LAST-MODIFIED:20250701T113220Z
UID:1986-1752133500-1752153300@sekundarschule-borchen.de
SUMMARY:Schulwandertag/Sternwanderung
DESCRIPTION:
URL:https://sekundarschule-borchen.de/event/schulwandertag-sternwanderung/
END:VEVENT
BEGIN:VEVENT
DTSTART;TZID=Europe/Berlin:20250711T074500
DTEND;TZID=Europe/Berlin:20250711T105500
DTSTAMP:20260423T103703
CREATED:20240819T082234Z
LAST-MODIFIED:20250310T100802Z
UID:1489-1752219900-1752231300@sekundarschule-borchen.de
SUMMARY:Zeugnisse
DESCRIPTION:
URL:https://sekundarschule-borchen.de/event/zeugnisse/
END:VEVENT
END:VCALENDAR