BEGIN:VCALENDAR
VERSION:2.0
PRODID:-//Schule an der Altenau - ECPv6.15.17//NONSGML v1.0//EN
CALSCALE:GREGORIAN
METHOD:PUBLISH
X-WR-CALNAME:Schule an der Altenau
X-ORIGINAL-URL:https://sekundarschule-borchen.de
X-WR-CALDESC:Veranstaltungen für Schule an der Altenau
REFRESH-INTERVAL;VALUE=DURATION:PT1H
X-Robots-Tag:noindex
X-PUBLISHED-TTL:PT1H
BEGIN:VTIMEZONE
TZID:Europe/Berlin
BEGIN:DAYLIGHT
TZOFFSETFROM:+0100
TZOFFSETTO:+0200
TZNAME:CEST
DTSTART:20250330T010000
END:DAYLIGHT
BEGIN:STANDARD
TZOFFSETFROM:+0200
TZOFFSETTO:+0100
TZNAME:CET
DTSTART:20251026T010000
END:STANDARD
BEGIN:DAYLIGHT
TZOFFSETFROM:+0100
TZOFFSETTO:+0200
TZNAME:CEST
DTSTART:20260329T010000
END:DAYLIGHT
BEGIN:STANDARD
TZOFFSETFROM:+0200
TZOFFSETTO:+0100
TZNAME:CET
DTSTART:20261025T010000
END:STANDARD
BEGIN:DAYLIGHT
TZOFFSETFROM:+0100
TZOFFSETTO:+0200
TZNAME:CEST
DTSTART:20270328T010000
END:DAYLIGHT
BEGIN:STANDARD
TZOFFSETFROM:+0200
TZOFFSETTO:+0100
TZNAME:CET
DTSTART:20271031T010000
END:STANDARD
END:VTIMEZONE
BEGIN:VEVENT
DTSTART;TZID=Europe/Berlin:20260602T074500
DTEND;TZID=Europe/Berlin:20260602T131500
DTSTAMP:20260423T135420
CREATED:20260115T085301Z
LAST-MODIFIED:20260115T085301Z
UID:2580-1780386300-1780406100@sekundarschule-borchen.de
SUMMARY:Nachprüfung Zentralprüfung in Fach Deutsch
DESCRIPTION:
URL:https://sekundarschule-borchen.de/event/nachpruefung-zentralpruefung-in-fach-deutsch/
END:VEVENT
BEGIN:VEVENT
DTSTART;TZID=Europe/Berlin:20260603T074500
DTEND;TZID=Europe/Berlin:20260603T150000
DTSTAMP:20260423T135420
CREATED:20251008T090507Z
LAST-MODIFIED:20251008T090507Z
UID:2318-1780472700-1780498800@sekundarschule-borchen.de
SUMMARY:Berufsfelderkundungstag 3
DESCRIPTION:
URL:https://sekundarschule-borchen.de/event/berufsfelderkundungstag-3/
END:VEVENT
BEGIN:VEVENT
DTSTART;TZID=Europe/Berlin:20260603T074500
DTEND;TZID=Europe/Berlin:20260603T150000
DTSTAMP:20260423T135420
CREATED:20260115T085442Z
LAST-MODIFIED:20260115T085442Z
UID:2582-1780472700-1780498800@sekundarschule-borchen.de
SUMMARY:Nachprüfung Zentralprüfung in Fach Englisch
DESCRIPTION:
URL:https://sekundarschule-borchen.de/event/nachpruefung-zentralpruefung-in-fach-englisch/
END:VEVENT
BEGIN:VEVENT
DTSTART;VALUE=DATE:20260604
DTEND;VALUE=DATE:20260605
DTSTAMP:20260423T135420
CREATED:20251103T124727Z
LAST-MODIFIED:20251103T124727Z
UID:2362-1780531200-1780617599@sekundarschule-borchen.de
SUMMARY:Fronleichnam
DESCRIPTION:
URL:https://sekundarschule-borchen.de/event/fronleichnam-3/
END:VEVENT
BEGIN:VEVENT
DTSTART;VALUE=DATE:20260605
DTEND;VALUE=DATE:20260606
DTSTAMP:20260423T135420
CREATED:20251103T124807Z
LAST-MODIFIED:20260304T110410Z
UID:2364-1780617600-1780703999@sekundarschule-borchen.de
SUMMARY:Beweglicher Ferientag
DESCRIPTION:
URL:https://sekundarschule-borchen.de/event/beweglicher-ferientag-9/
END:VEVENT
BEGIN:VEVENT
DTSTART;TZID=Europe/Berlin:20260609T074500
DTEND;TZID=Europe/Berlin:20260609T131500
DTSTAMP:20260423T135420
CREATED:20260115T085535Z
LAST-MODIFIED:20260115T085535Z
UID:2584-1780991100-1781010900@sekundarschule-borchen.de
SUMMARY:Nachprüfung Zentralprüfung in Fach Mathematik
DESCRIPTION:
URL:https://sekundarschule-borchen.de/event/nachpruefung-zentralpruefung-in-fach-mathematik/
END:VEVENT
BEGIN:VEVENT
DTSTART;TZID=Europe/Berlin:20260625T170000
DTEND;TZID=Europe/Berlin:20260625T180000
DTSTAMP:20260423T135420
CREATED:20260309T122050Z
LAST-MODIFIED:20260309T122357Z
UID:2717-1782406800-1782410400@sekundarschule-borchen.de
SUMMARY:Kennenlernnachmittag für die neuen Fünftklässler Schuljahr 2026-27
DESCRIPTION:
URL:https://sekundarschule-borchen.de/event/kennlernnachmittag-fuer-die-neuen-fuenftklaessler-schuljahr-2026-27/
END:VEVENT
BEGIN:VEVENT
DTSTART;TZID=Europe/Berlin:20260629T074500
DTEND;TZID=Europe/Berlin:20260701T150000
DTSTAMP:20260423T135420
CREATED:20260304T115641Z
LAST-MODIFIED:20260304T115800Z
UID:2710-1782719100-1782918000@sekundarschule-borchen.de
SUMMARY:Mottowoche Jahrgang 10
DESCRIPTION:
URL:https://sekundarschule-borchen.de/event/mottowoche-jahrgang-10/
END:VEVENT
END:VCALENDAR